BEGIN:VCALENDAR
VERSION:2.0
PRODID:Imitheme.com 
BEGIN:VEVENT
UID:20260423T1534082145103314
DTSTAMP;TZID=UTC:2026-04-23 15:34:08
DTSTART;TZID=America/Los_Angeles:20260520T000000
DTEND;TZID=America/Los_Angeles:20260520T000000
SUMMARY:Wednesday Night at BBC
LOCATION:Bible Baptist Church
DESCRIPTION:Wednesday nights are busy at Bible Baptist! Our adults meet in the auditorium for a time of prayer and Bible Study while our teens have their own service. Our children meet in the Gymnasium for Master Club - ages 3 through 6th grade.
URL:https://biblebaptistonline.com/eventer/wednesday-night-bible-baptist-church/
END:VEVENT
END:VCALENDAR
