BEGIN:VCALENDAR
VERSION:2.0
PRODID:Imitheme.com 
BEGIN:VEVENT
UID:20260423T1514572071116495
DTSTAMP;TZID=UTC:2026-04-23 15:14:57
DTSTART;TZID=America/Los_Angeles:20260628T000000
DTEND;TZID=America/Los_Angeles:20260628T000000
SUMMARY:Afterglow
LOCATION:
DESCRIPTION:Food and fellowship with your church family after the evening service. Bring enough food for yourself, your family, and few others. We\'ll put it all on the table and share. More importantly, we spend time getting to know one another a little better, laughing a bit, and encouraging one another.
URL:https://biblebaptistonline.com/eventer/afterglow/
END:VEVENT
END:VCALENDAR
