BEGIN:VCALENDAR
VERSION:2.0
PRODID:Imitheme.com 
BEGIN:VEVENT
UID:20260423T1827191188474361
DTSTAMP;TZID=UTC:2026-04-23 18:27:19
DTSTART;TZID=America/Los_Angeles:20260711T000000
DTEND;TZID=America/Los_Angeles:20260711T000000
SUMMARY:Men's Breakfast
LOCATION:Bible Baptist Church
DESCRIPTION:Our men gather once a quarter for good food, fellowship, an encouraging message from the Word, and a time of prayer. We start at 8:00 and finish around 9:30. There is no cost.
URL:https://biblebaptistonline.com/eventer/mens-breakfast-2/
END:VEVENT
END:VCALENDAR
