BEGIN:VCALENDAR
VERSION:2.0
PRODID:Imitheme.com 
BEGIN:VEVENT
UID:20260423T1705581678077869
DTSTAMP;TZID=UTC:2026-04-23 17:05:58
DTSTART;TZID=America/Los_Angeles:20260726T000000
DTEND;TZID=America/Los_Angeles:20260726T000000
SUMMARY:Sunday Morning at BBC
LOCATION:Bible Baptist Church
DESCRIPTION:We start at 10:00 with Sunday School for all ages and a variety of Adult Bible Study Classes, an excellent way to learn more about the Word of God. Then at 11:00 we worship the Lord together through song and the preaching of the Word. It\'s the highlight of our week!
URL:https://biblebaptistonline.com/eventer/sunday-school/
END:VEVENT
END:VCALENDAR
