BEGIN:VCALENDAR
VERSION:2.0
PRODID:Imitheme.com 
BEGIN:VEVENT
UID:20260423T1827281902140688
DTSTAMP;TZID=UTC:2026-04-23 18:27:28
DTSTART;TZID=America/Los_Angeles:20260927T000000
DTEND;TZID=America/Los_Angeles:20260927T000000
SUMMARY:Sunday Evening Service
LOCATION:Bible Baptist Church
DESCRIPTION:Good fellowship with our church family and practical preaching from the Word of God.
URL:https://biblebaptistonline.com/eventer/sunday-evening-service/
END:VEVENT
END:VCALENDAR
