BEGIN:VCALENDAR
VERSION:2.0
PRODID:Imitheme.com 
BEGIN:VEVENT
UID:20260423T1959091775501199
DTSTAMP;TZID=UTC:2026-04-23 19:59:09
DTSTART;TZID=America/Los_Angeles:20261018T000000
DTEND;TZID=America/Los_Angeles:20261018T000000
SUMMARY:Sunday Evening Service
LOCATION:Bible Baptist Church
DESCRIPTION:Good fellowship with our church family and practical preaching from the Word of God.
URL:https://biblebaptistonline.com/eventer/sunday-evening-service/
END:VEVENT
END:VCALENDAR
