BEGIN:VCALENDAR
VERSION:2.0
PRODID:Imitheme.com 
BEGIN:VEVENT
UID:20260424T0201311267959458
DTSTAMP;TZID=UTC:2026-04-24 02:01:31
DTSTART;TZID=America/Los_Angeles:20270626T000000
DTEND;TZID=America/Los_Angeles:20270626T000000
SUMMARY:Outreach
LOCATION:Bible Baptist Church
DESCRIPTION:Join us as we distribute literature or invite others to Bible Baptist. See Jacob Haney or Pastor Reed for more information.
URL:https://biblebaptistonline.com/eventer/outreach/
END:VEVENT
END:VCALENDAR
