BEGIN:VCALENDAR
VERSION:2.0
PRODID:Imitheme.com 
BEGIN:VEVENT
UID:20260423T1524291241746074
DTSTAMP;TZID=UTC:2026-04-23 15:24:29
DTSTART;TZID=America/Los_Angeles:20270114T000000
DTEND;TZID=America/Los_Angeles:20270114T000000
SUMMARY:Bible Study
LOCATION:Bible Baptist Church
DESCRIPTION:Each week we gather for an informal time of Bible Study. Right now, Bob Reed is leading us through the Book of Hebrews. We suggest that you park in the south parking lot (near Epps Rd.), and enter through the doors at the end of the educational wing. Room 112 is the first room on the right.
URL:https://biblebaptistonline.com/eventer/bible-study/
END:VEVENT
END:VCALENDAR
