BEGIN:VCALENDAR
VERSION:2.0
PRODID:Imitheme.com 
BEGIN:VEVENT
UID:20260423T2323021209027573
DTSTAMP;TZID=UTC:2026-04-23 23:23:02
DTSTART;TZID=America/Los_Angeles:20270327T000000
DTEND;TZID=America/Los_Angeles:20270327T000000
SUMMARY:Outreach
LOCATION:Bible Baptist Church
DESCRIPTION:Join us as we distribute literature or invite others to Bible Baptist. See Jacob Haney or Pastor Reed for more information.
URL:https://biblebaptistonline.com/eventer/outreach/
END:VEVENT
END:VCALENDAR
