BEGIN:VCALENDAR
VERSION:2.0
PRODID:Imitheme.com 
BEGIN:VEVENT
UID:20260423T1931041242325569
DTSTAMP;TZID=UTC:2026-04-23 19:31:04
DTSTART;TZID=America/Los_Angeles:20301214T000000
DTEND;TZID=America/Los_Angeles:20301214T000000
SUMMARY:Outreach
LOCATION:Bible Baptist Church
DESCRIPTION:Join us as we distribute literature or invite others to Bible Baptist. See Jacob Haney or Pastor Reed for more information.
URL:https://biblebaptistonline.com/eventer/outreach/
END:VEVENT
END:VCALENDAR
