BEGIN:VCALENDAR
VERSION:2.0
PRODID:Imitheme.com 
BEGIN:VEVENT
UID:20260423T1808481745018291
DTSTAMP;TZID=UTC:2026-04-23 18:08:48
DTSTART;TZID=America/Los_Angeles:20310105T000000
DTEND;TZID=America/Los_Angeles:20310105T000000
SUMMARY:Sunday Evening Service
LOCATION:Bible Baptist Church
DESCRIPTION:Good fellowship with our church family and practical preaching from the Word of God.
URL:https://biblebaptistonline.com/eventer/sunday-evening-service/
END:VEVENT
END:VCALENDAR
